BEGIN:VCALENDAR
VERSION:2.0
PRODID:-//Bozeman Cohousing - ECPv6.15.20//NONSGML v1.0//EN
CALSCALE:GREGORIAN
METHOD:PUBLISH
X-WR-CALNAME:Bozeman Cohousing
X-ORIGINAL-URL:https://bozemancohousing.com
X-WR-CALDESC:Events for Bozeman Cohousing
REFRESH-INTERVAL;VALUE=DURATION:PT1H
X-Robots-Tag:noindex
X-PUBLISHED-TTL:PT1H
BEGIN:VTIMEZONE
TZID:America/Denver
BEGIN:DAYLIGHT
TZOFFSETFROM:-0700
TZOFFSETTO:-0600
TZNAME:MDT
DTSTART:20180311T090000
END:DAYLIGHT
BEGIN:STANDARD
TZOFFSETFROM:-0600
TZOFFSETTO:-0700
TZNAME:MST
DTSTART:20181104T080000
END:STANDARD
BEGIN:DAYLIGHT
TZOFFSETFROM:-0700
TZOFFSETTO:-0600
TZNAME:MDT
DTSTART:20190310T090000
END:DAYLIGHT
BEGIN:STANDARD
TZOFFSETFROM:-0600
TZOFFSETTO:-0700
TZNAME:MST
DTSTART:20191103T080000
END:STANDARD
BEGIN:DAYLIGHT
TZOFFSETFROM:-0700
TZOFFSETTO:-0600
TZNAME:MDT
DTSTART:20200308T090000
END:DAYLIGHT
BEGIN:STANDARD
TZOFFSETFROM:-0600
TZOFFSETTO:-0700
TZNAME:MST
DTSTART:20201101T080000
END:STANDARD
END:VTIMEZONE
BEGIN:VEVENT
DTSTART;TZID=America/Denver:20190905T170000
DTEND;TZID=America/Denver:20190905T190000
DTSTAMP:20260419T230346
CREATED:20190720T030710Z
LAST-MODIFIED:20190829T171053Z
UID:582-1567702800-1567710000@bozemancohousing.com
SUMMARY:Members Meeting
DESCRIPTION:Committed members of Bozeman Cohousing meet regularly to discuss progress and make decisions.  If you would like to get more involved or learn more\, you can attend the meetings as an Explorer.  Email life@bozemancohousing.com for additional details.
URL:https://bozemancohousing.com/event/members-meeting-4/
END:VEVENT
BEGIN:VEVENT
DTSTART;TZID=America/Denver:20190903T170000
DTEND;TZID=America/Denver:20190903T200000
DTSTAMP:20260419T230346
CREATED:20190804T210539Z
LAST-MODIFIED:20190826T181815Z
UID:772-1567530000-1567540800@bozemancohousing.com
SUMMARY:Socializing at the Bogert Farmer's Market
DESCRIPTION:Come meet some members of Bozeman Cohousing and learn more about our project.  We will have a booth setup in the row with the other vendors and someone will be at the booth from 5-8 pm to talk with you and answer any questions you have. \nHope to see you there!
URL:https://bozemancohousing.com/event/socializing-at-the-bogert-farmers-market-2/
LOCATION:Bogert Farmers Market\, Lindley Park\, Bozeman\, 59715\, United States
ATTACH;FMTTYPE=image/jpeg:https://bozemancohousing.com/wp-content/uploads/2019/08/635560705158290153.jpg
END:VEVENT
BEGIN:VEVENT
DTSTART;TZID=America/Denver:20190827T170000
DTEND;TZID=America/Denver:20190827T200000
DTSTAMP:20260419T230346
CREATED:20190804T210455Z
LAST-MODIFIED:20190826T181650Z
UID:770-1566925200-1566936000@bozemancohousing.com
SUMMARY:Socializing at the Bogert Farmer's Market
DESCRIPTION:Come meet some members of Bozeman Cohousing and learn more about our project.  We will have a booth setup in the row with the other vendors and someone will be at the booth from 5-8 pm to talk with you and answer any questions you have. \nHope to see you there!
URL:https://bozemancohousing.com/event/socializing-at-the-bogert-farmers-market/
LOCATION:Bogert Farmers Market\, Lindley Park\, Bozeman\, 59715\, United States
ATTACH;FMTTYPE=image/jpeg:https://bozemancohousing.com/wp-content/uploads/2019/08/vegetables-4173647_960_720.jpg
END:VEVENT
BEGIN:VEVENT
DTSTART;TZID=America/Denver:20190821T180000
DTEND;TZID=America/Denver:20190821T200000
DTSTAMP:20260419T230346
CREATED:20190720T030639Z
LAST-MODIFIED:20190720T030639Z
UID:580-1566410400-1566417600@bozemancohousing.com
SUMMARY:Members Meeting
DESCRIPTION:Committed members of Bozeman Cohousing meet regularly to discuss progress and make decisions.  If you would like to get more involved or learn more\, you can attend the meetings as an Explorer.  Email life@bozemancohousing.com for additional details.
URL:https://bozemancohousing.com/event/members-meeting-3/
END:VEVENT
BEGIN:VEVENT
DTSTART;TZID=America/Denver:20190808T170000
DTEND;TZID=America/Denver:20190808T200000
DTSTAMP:20260419T230346
CREATED:20190720T030611Z
LAST-MODIFIED:20190730T163217Z
UID:578-1565283600-1565294400@bozemancohousing.com
SUMMARY:Cohousing Solutions Call & Members Meeting
DESCRIPTION:Committed members of Bozeman Cohousing meet regularly to discuss progress and make decisions.  If you would like to get more involved or learn more\, you can attend the meetings email life@bozemancohousing.com for additional details.
URL:https://bozemancohousing.com/event/members-meeting-2/
END:VEVENT
BEGIN:VEVENT
DTSTART;TZID=America/Denver:20190724T180000
DTEND;TZID=America/Denver:20190724T200000
DTSTAMP:20260419T230346
CREATED:20190720T030431Z
LAST-MODIFIED:20190720T030431Z
UID:576-1563991200-1563998400@bozemancohousing.com
SUMMARY:Members Meeting
DESCRIPTION:Committed members of Bozeman Cohousing meet regularly to discuss progress and make decisions.  If you would like to get more involved or learn more\, you can attend the meetings as an Explorer.  Email life@bozemancohousing.com for additional details.
URL:https://bozemancohousing.com/event/members-meeting/
END:VEVENT
BEGIN:VEVENT
DTSTART;TZID=America/Denver:20190723T180000
DTEND;TZID=America/Denver:20190723T190000
DTSTAMP:20260419T230346
CREATED:20190720T025634Z
LAST-MODIFIED:20190720T025634Z
UID:566-1563904800-1563908400@bozemancohousing.com
SUMMARY:Farmer's Market Socializing
DESCRIPTION:Come to the Bogert Farmer’s Market (at Lindley Park) to learn more about cohousing.  Look for our sign and come say hi.
URL:https://bozemancohousing.com/event/farmers-market-socializing/
LOCATION:Bogert Farmers Market\, Lindley Park\, Bozeman\, 59715\, United States
END:VEVENT
BEGIN:VEVENT
DTSTART;TZID=America/Denver:20190628T173000
DTEND;TZID=America/Denver:20190628T183000
DTSTAMP:20260419T230346
CREATED:20190611T203431Z
LAST-MODIFIED:20190617T162120Z
UID:464-1561743000-1561746600@bozemancohousing.com
SUMMARY:Potluck with Jim and Peg from Bristol Village Cohousing
DESCRIPTION:Jim and Peg are members of Bristol Village Cohousing\, a successful cohousing community in Vermont.  They are visiting Bozeman and offered to share their experience in building a cohousing community.  Bring a dish to share\, plates\, utensils\, and driks to Bogert Park.
URL:https://bozemancohousing.com/event/potluck-with-jim-and-peg-from-bristol-village-cohousing/
LOCATION:Bogert Park\, 325 S Church Ave\, Bozeman\, MT\, 59715\, United States
END:VEVENT
BEGIN:VEVENT
DTSTART;TZID=America/Denver:20190624T180000
DTEND;TZID=America/Denver:20190624T200000
DTSTAMP:20260419T230346
CREATED:20190522T184421Z
LAST-MODIFIED:20190524T205004Z
UID:185-1561399200-1561406400@bozemancohousing.com
SUMMARY:Members Meeting (open to all)
DESCRIPTION:The purpose of this meeting is for registered members to make decisions to progress the project. Anyone that is interested in cohousing is welcome to attend. \nNote that this venue is the home of VISIONS Service Adventures.
URL:https://bozemancohousing.com/event/committed-members-meeting-2/
LOCATION:VISIONS Service Adventures\, 203 N Church St\, Bozeman\, MT\, 59715\, United States
END:VEVENT
BEGIN:VEVENT
DTSTART;TZID=America/Denver:20190612T180000
DTEND;TZID=America/Denver:20190612T200000
DTSTAMP:20260419T230346
CREATED:20190522T183257Z
LAST-MODIFIED:20190524T204931Z
UID:181-1560362400-1560369600@bozemancohousing.com
SUMMARY:Members Meeting (open to all)
DESCRIPTION:The purpose of this meeting is for registered members to make decisions to progress the project.  Anyone that is interested in cohousing is welcome to attend.
URL:https://bozemancohousing.com/event/committed-members-meeting/
LOCATION:Kirk Park Pavilion\, 137 N 20th Ave\, Bozeman\, MT\, 59715\, United States
END:VEVENT
BEGIN:VEVENT
DTSTART;TZID=America/Denver:20190529T180000
DTEND;TZID=America/Denver:20190529T200000
DTSTAMP:20260419T230346
CREATED:20190509T223736Z
LAST-MODIFIED:20190523T173143Z
UID:23-1559152800-1559160000@bozemancohousing.com
SUMMARY:Interest Meeting
DESCRIPTION:Overview\nCome learn more about cohousing and connect with other interested individuals and families.  This meeting will have a presentation describing the history of this group\, what cohousing is\, the plans for the future\, and time for questions and discussion. \n \nAgenda\n\n5 minute – History of Group\n30 minute – Overview of cohousing\n10 minute – Plan for the Future\n15 minute – Questions/Discussion\n30 minute – Informal socializing
URL:https://bozemancohousing.com/event/interest-meeting/
LOCATION:Bozeman Library – Large Community Room\, 626 E Main St\, Bozeman\, MT\, 59715\, United States
END:VEVENT
BEGIN:VEVENT
DTSTART;TZID=America/Denver:20190521T180000
DTEND;TZID=America/Denver:20190521T200000
DTSTAMP:20260419T230346
CREATED:20190511T010438Z
LAST-MODIFIED:20190521T030949Z
UID:72-1558461600-1558468800@bozemancohousing.com
SUMMARY:Potluck Dinner - Location Changed!
DESCRIPTION:To continue the process to get to know each other and form a group of committed families\, we are planning a potluck dinner.  In case of bad weather\, join our email list to get information on an alternative location: \nHero Images / Getty Images
URL:https://bozemancohousing.com/event/potluck-dinner-tuesday-5-21/
LOCATION:Moved to member’s house due to weather.  Join Email List for location.\, Bozeman\, MT\, 59715\, United States
END:VEVENT
END:VCALENDAR