BEGIN:VCALENDAR
VERSION:2.0
PRODID:-//Bozeman Cohousing - ECPv6.15.20//NONSGML v1.0//EN
CALSCALE:GREGORIAN
METHOD:PUBLISH
X-ORIGINAL-URL:https://bozemancohousing.com
X-WR-CALDESC:Events for Bozeman Cohousing
REFRESH-INTERVAL;VALUE=DURATION:PT1H
X-Robots-Tag:noindex
X-PUBLISHED-TTL:PT1H
BEGIN:VTIMEZONE
TZID:America/Denver
BEGIN:DAYLIGHT
TZOFFSETFROM:-0700
TZOFFSETTO:-0600
TZNAME:MDT
DTSTART:20190310T090000
END:DAYLIGHT
BEGIN:STANDARD
TZOFFSETFROM:-0600
TZOFFSETTO:-0700
TZNAME:MST
DTSTART:20191103T080000
END:STANDARD
BEGIN:DAYLIGHT
TZOFFSETFROM:-0700
TZOFFSETTO:-0600
TZNAME:MDT
DTSTART:20200308T090000
END:DAYLIGHT
BEGIN:STANDARD
TZOFFSETFROM:-0600
TZOFFSETTO:-0700
TZNAME:MST
DTSTART:20201101T080000
END:STANDARD
BEGIN:DAYLIGHT
TZOFFSETFROM:-0700
TZOFFSETTO:-0600
TZNAME:MDT
DTSTART:20210314T090000
END:DAYLIGHT
BEGIN:STANDARD
TZOFFSETFROM:-0600
TZOFFSETTO:-0700
TZNAME:MST
DTSTART:20211107T080000
END:STANDARD
END:VTIMEZONE
BEGIN:VEVENT
DTSTART;TZID=America/Denver:20201011T190000
DTEND;TZID=America/Denver:20201011T200000
DTSTAMP:20260419T110339
CREATED:20200930T190423Z
LAST-MODIFIED:20201025T233037Z
UID:2166-1602442800-1602446400@bozemancohousing.com
SUMMARY:Webinar: Bozeman Cohousing 101
DESCRIPTION:Join us for a webinar to follow our journey over the past year and a half\, learn about the current status of our project and how you can become a member. You are invited to a Zoom meeting. Please register here.
URL:https://bozemancohousing.com/event/webinar-bozeman-cohousing-101-8/
LOCATION:MT
CATEGORIES:Webinar
ATTACH;FMTTYPE=image/jpeg:https://bozemancohousing.com/wp-content/uploads/2020/05/DSC00144-scaled.jpg
END:VEVENT
BEGIN:VEVENT
DTSTART;TZID=America/Denver:20201011T140000
DTEND;TZID=America/Denver:20201011T160000
DTSTAMP:20260419T110339
CREATED:20201007T140448Z
LAST-MODIFIED:20201025T233111Z
UID:2456-1602424800-1602432000@bozemancohousing.com
SUMMARY:Sunday\, October 11th Site Tours
DESCRIPTION:Meet one on one with a member of Bozeman Cohousing while touring our beautiful property. Learn more about the status of our project and how you can live in Montana’s first cohousing neighborhood! Various time slots are available. Please pre-register using this link.
URL:https://bozemancohousing.com/event/sunday-october-11th-site-tours/
LOCATION:Bozeman Cohousing\, 3120 Wagon Wheel Rd\, Bozeman\, MT\, 59715\, United States
CATEGORIES:Site Tour
ATTACH;FMTTYPE=image/jpeg:https://bozemancohousing.com/wp-content/uploads/2020/08/99436382_710212879735407_7461550781016047616_o.jpg
END:VEVENT
BEGIN:VEVENT
DTSTART;TZID=America/Denver:20201005T150000
DTEND;TZID=America/Denver:20201005T170000
DTSTAMP:20260419T110339
CREATED:20200927T161350Z
LAST-MODIFIED:20201025T233111Z
UID:2164-1601910000-1601917200@bozemancohousing.com
SUMMARY:Monday\, October 5th Site Tours
DESCRIPTION:Meet one on one with a member of Bozeman Cohousing while touring our beautiful property. Learn more about the status of our project and how you can live in Montana’s first cohousing neighborhood! Various time slots are available. Please check out dates\, times and register in advance using this Sign Up Genius link.
URL:https://bozemancohousing.com/event/monday-october-5th-site-tours/
LOCATION:Bozeman Cohousing\, 3120 Wagon Wheel Rd\, Bozeman\, MT\, 59715\, United States
CATEGORIES:Site Tour
ATTACH;FMTTYPE=image/jpeg:https://bozemancohousing.com/wp-content/uploads/2020/08/common-house-render-scaled.jpg
END:VEVENT
BEGIN:VEVENT
DTSTART;TZID=America/Denver:20200928T090000
DTEND;TZID=America/Denver:20200928T173000
DTSTAMP:20260419T110339
CREATED:20200919T155241Z
LAST-MODIFIED:20201025T233111Z
UID:2074-1601283600-1601314200@bozemancohousing.com
SUMMARY:September 28th Site Tours
DESCRIPTION:Meet one on one with a member of Bozeman Cohousing while touring our beautiful property. Learn more about the status of our project and how you can live in Montana’s first cohousing neighborhood! Various time slots are available. Please check out dates\, times and register in advance using this Sign Up Genius link.
URL:https://bozemancohousing.com/event/september-28th-site-tours/
LOCATION:Bozeman Cohousing\, 3120 Wagon Wheel Rd\, Bozeman\, MT\, 59715\, United States
CATEGORIES:Site Tour
ATTACH;FMTTYPE=image/jpeg:https://bozemancohousing.com/wp-content/uploads/2020/08/99436382_710212879735407_7461550781016047616_o.jpg
END:VEVENT
BEGIN:VEVENT
DTSTART;TZID=America/Denver:20200927T180000
DTEND;TZID=America/Denver:20200927T190000
DTSTAMP:20260419T110339
CREATED:20200919T154438Z
LAST-MODIFIED:20201025T233038Z
UID:2072-1601229600-1601233200@bozemancohousing.com
SUMMARY:Webinar: Bozeman Cohousing 101
DESCRIPTION:Join us for a webinar to follow our journey over the past year and a half\, learn about the current status of our project and how you can become a member. You are invited to a Zoom meeting. Please register here.
URL:https://bozemancohousing.com/event/webinar-bozeman-cohousing-101-7/
LOCATION:MT
CATEGORIES:Webinar
ATTACH;FMTTYPE=image/jpeg:https://bozemancohousing.com/wp-content/uploads/2020/05/DSC00144-scaled.jpg
END:VEVENT
BEGIN:VEVENT
DTSTART;TZID=America/Denver:20200922T090000
DTEND;TZID=America/Denver:20200922T173000
DTSTAMP:20260419T110339
CREATED:20200909T142751Z
LAST-MODIFIED:20201025T233111Z
UID:2051-1600765200-1600795800@bozemancohousing.com
SUMMARY:September 22nd Site Tours
DESCRIPTION:Meet one on one with a member of Bozeman Cohousing while touring our beautiful property. Learn more about the status of our project and how you can live in Montana’s first cohousing neighborhood! Various time slots are available. Please check out dates\, times and register in advance using this Sign Up Genius link.
URL:https://bozemancohousing.com/event/september-22nd-site-tours/
LOCATION:MT
CATEGORIES:Site Tour
ATTACH;FMTTYPE=image/png:https://bozemancohousing.com/wp-content/uploads/2020/08/Screen-Shot-2020-08-16-at-7.40.19-AM.png
END:VEVENT
BEGIN:VEVENT
DTSTART;TZID=America/Denver:20200914T190000
DTEND;TZID=America/Denver:20200914T200000
DTSTAMP:20260419T110339
CREATED:20200903T160335Z
LAST-MODIFIED:20201025T233038Z
UID:2034-1600110000-1600113600@bozemancohousing.com
SUMMARY:Webinar: Bozeman Cohousing 101
DESCRIPTION:Join us for a webinar to follow our journey over the past year and a half\, learn about the current status of our project and how you can become a member. You are invited to a Zoom meeting. Please register here.
URL:https://bozemancohousing.com/event/webinar-bozeman-cohousing-101-6/
LOCATION:MT
CATEGORIES:Webinar
ATTACH;FMTTYPE=image/jpeg:https://bozemancohousing.com/wp-content/uploads/2020/05/pick-up-2.jpg
END:VEVENT
BEGIN:VEVENT
DTSTART;TZID=America/Denver:20200914T090000
DTEND;TZID=America/Denver:20200914T170000
DTSTAMP:20260419T110339
CREATED:20200903T160700Z
LAST-MODIFIED:20201025T233111Z
UID:2037-1600074000-1600102800@bozemancohousing.com
SUMMARY:September 14th Site Tours
DESCRIPTION:Meet one on one with a member of Bozeman Cohousing while touring our beautiful property. Learn more about the status of our project and how you can live in Montana’s first cohousing neighborhood! Various time slots are available. Please check out dates\, times and register in advance using this Sign Up Genius link.
URL:https://bozemancohousing.com/event/september-14th-site-tours/
LOCATION:Bozeman Cohousing\, 3120 Wagon Wheel Rd\, Bozeman\, MT\, 59715\, United States
CATEGORIES:Site Tour
ATTACH;FMTTYPE=image/jpeg:https://bozemancohousing.com/wp-content/uploads/2020/08/99436382_710212879735407_7461550781016047616_o.jpg
END:VEVENT
BEGIN:VEVENT
DTSTART;TZID=America/Denver:20200908T090000
DTEND;TZID=America/Denver:20200908T183000
DTSTAMP:20260419T110339
CREATED:20200816T171540Z
LAST-MODIFIED:20201025T233111Z
UID:1968-1599555600-1599589800@bozemancohousing.com
SUMMARY:September 8th Site Tours
DESCRIPTION:Meet one on one with a member of Bozeman Cohousing while touring our beautiful property. Learn more about the status of our project and how you can live in Montana’s first cohousing neighborhood! Various time slots are available. Please check out dates\, times and register in advance using this Sign Up Genius link
URL:https://bozemancohousing.com/event/september-8th-site-tours/
LOCATION:Bozeman Cohousing\, 3120 Wagon Wheel Rd\, Bozeman\, MT\, 59715\, United States
CATEGORIES:Site Tour
ATTACH;FMTTYPE=image/jpeg:https://bozemancohousing.com/wp-content/uploads/2020/08/property.jpg
END:VEVENT
BEGIN:VEVENT
DTSTART;TZID=America/Denver:20200902T090000
DTEND;TZID=America/Denver:20200902T190000
DTSTAMP:20260419T110339
CREATED:20200816T170857Z
LAST-MODIFIED:20201025T233111Z
UID:1966-1599037200-1599073200@bozemancohousing.com
SUMMARY:September 2nd Site Tours
DESCRIPTION:Meet one on one with a member of Bozeman Cohousing while touring our beautiful property. Learn more about the status of our project and how you can live in Montana’s first cohousing neighborhood! Various time slots are available. Please check out dates\, times and register in advance using this Sign Up Genius link
URL:https://bozemancohousing.com/event/september-2nd-site-tours/
LOCATION:Bozeman Cohousing\, 3120 Wagon Wheel Rd\, Bozeman\, MT\, 59715\, United States
CATEGORIES:Site Tour
ATTACH;FMTTYPE=image/jpeg:https://bozemancohousing.com/wp-content/uploads/2020/08/99436382_710212879735407_7461550781016047616_o.jpg
END:VEVENT
BEGIN:VEVENT
DTSTART;TZID=America/Denver:20200901T190000
DTEND;TZID=America/Denver:20200901T200000
DTSTAMP:20260419T110339
CREATED:20200819T152340Z
LAST-MODIFIED:20201025T233038Z
UID:1982-1598986800-1598990400@bozemancohousing.com
SUMMARY:Webinar: Bozeman Cohousing 101
DESCRIPTION:Join us for a webinar to follow our journey over the past year\, learn about the current status of our project and how you can become a member. You are invited to a Zoom meeting. Please register here.
URL:https://bozemancohousing.com/event/webinar-bozeman-cohousing-101-5/
LOCATION:MT
CATEGORIES:Webinar
ATTACH;FMTTYPE=image/jpeg:https://bozemancohousing.com/wp-content/uploads/2020/05/DSC00144-scaled.jpg
END:VEVENT
BEGIN:VEVENT
DTSTART;TZID=America/Denver:20200824T090000
DTEND;TZID=America/Denver:20200824T190000
DTSTAMP:20260419T110339
CREATED:20200720T145414Z
LAST-MODIFIED:20201025T233112Z
UID:1888-1598259600-1598295600@bozemancohousing.com
SUMMARY:August 24th Site Tours
DESCRIPTION:Meet one on one with a member of Bozeman Cohousing while touring our beautiful property. Learn more about the status of our project and how you can live in Montana’s first cohousing neighborhood! Various dates and time slots are available throughout August. Please check out dates\, times and register in advance using this Sign Up Genius link
URL:https://bozemancohousing.com/event/august-site-tours/
LOCATION:Bozeman Cohousing\, 3120 Wagon Wheel Rd\, Bozeman\, MT\, 59715\, United States
CATEGORIES:Site Tour
ATTACH;FMTTYPE=image/jpeg:https://bozemancohousing.com/wp-content/uploads/2020/06/100900294_713429559413739_6429405358795522048_o.jpg
END:VEVENT
BEGIN:VEVENT
DTSTART;TZID=America/Denver:20200822T193000
DTEND;TZID=America/Denver:20200822T220000
DTSTAMP:20260419T110339
CREATED:20200815T190656Z
LAST-MODIFIED:20200820T193759Z
UID:1938-1598124600-1598133600@bozemancohousing.com
SUMMARY:Free Outdoor Film Screening
DESCRIPTION:Join Bozeman Cohousing in conjunction with Bozeman International Film Festival\, Thrive and Movie Lovers of Bozeman for a special outdoor screening of Somebody’s Daughter. This powerful film is part of Pilgrim UCC’s Missing and Murdered Indigenous Women Outreach and Education. Please bring a lawn chair or blanket for this socially distanced event. The movie starts at dusk\, but we invite you to come at 7:30pm for picnicking and to see our goats.  \n** Please note that we will be capping attendance in order to maintain social distancing best practices. This is a first come\, first served event so if you would like a spot please get there at 7:30 when “doors” open! **
URL:https://bozemancohousing.com/event/free-outdoor-film-screening/
LOCATION:Bozeman Cohousing\, 3120 Wagon Wheel Rd\, Bozeman\, MT\, 59715\, United States
ATTACH;FMTTYPE=image/jpeg:https://bozemancohousing.com/wp-content/uploads/2020/08/Somebodys-Daughter.jpg
END:VEVENT
BEGIN:VEVENT
DTSTART;TZID=America/Denver:20200818T190000
DTEND;TZID=America/Denver:20200818T200000
DTSTAMP:20260419T110339
CREATED:20200722T200522Z
LAST-MODIFIED:20201025T233038Z
UID:1897-1597777200-1597780800@bozemancohousing.com
SUMMARY:Webinar: Bozeman Cohousing 101
DESCRIPTION:Join us for a webinar to follow our journey over the past year\, learn about the current status of our project and how you can become a member. You are invited to a Zoom meeting. Please register here
URL:https://bozemancohousing.com/event/webinar-bozeman-cohousing-101-4/
LOCATION:MT
CATEGORIES:Webinar
ATTACH;FMTTYPE=image/jpeg:https://bozemancohousing.com/wp-content/uploads/2020/07/7387B855-C029-420E-8D34-64D249FDF7CB.jpeg
END:VEVENT
BEGIN:VEVENT
DTSTART;TZID=America/Denver:20200813T173000
DTEND;TZID=America/Denver:20200813T190000
DTSTAMP:20260419T110339
CREATED:20200722T195043Z
LAST-MODIFIED:20200722T195043Z
UID:1892-1597339800-1597345200@bozemancohousing.com
SUMMARY:Picnic at the Property
DESCRIPTION:Looking for evening entertainment? Want to learn how you can live in Montana’s first cohousing neighborhood? Join us at the future sight of Bozeman Cohousing from 5:30pm – 7:00pm for a socially distanced picnic. There are a few picnic tables and plenty of room to spread out if you are more comfortable bringing your own blanket or chairs. Pack a snack and enjoy the company and the view!
URL:https://bozemancohousing.com/event/picnic-at-the-property-7/
LOCATION:Bozeman Cohousing\, 3120 Wagon Wheel Rd\, Bozeman\, MT\, 59715\, United States
ATTACH;FMTTYPE=image/jpeg:https://bozemancohousing.com/wp-content/uploads/2020/07/83434675_715208882569140_3179661157921193984_o.jpg
END:VEVENT
BEGIN:VEVENT
DTSTART;TZID=America/Denver:20200727T173000
DTEND;TZID=America/Denver:20200727T190000
DTSTAMP:20260419T110339
CREATED:20200626T152517Z
LAST-MODIFIED:20200626T152603Z
UID:1840-1595871000-1595876400@bozemancohousing.com
SUMMARY:Picnic at the Property
DESCRIPTION:Looking for evening entertainment? Want to learn how you can live in Montana’s first cohousing neighborhood? Join us at the future site of Bozeman Cohousing on Mondays from 5:30pm-7:00pm. There is plenty of space to spread out for social distancing best practices. Pack a snack\, a blanket and enjoy the view.
URL:https://bozemancohousing.com/event/picnic-with-bozeman-cohousing-4/
LOCATION:Bozeman Cohousing\, 3120 Wagon Wheel Rd\, Bozeman\, MT\, 59715\, United States
ATTACH;FMTTYPE=image/jpeg:https://bozemancohousing.com/wp-content/uploads/2020/05/DSC00031-scaled.jpg
END:VEVENT
BEGIN:VEVENT
DTSTART;TZID=America/Denver:20200722T080000
DTEND;TZID=America/Denver:20200727T170000
DTSTAMP:20260419T110339
CREATED:20200720T144401Z
LAST-MODIFIED:20201025T233112Z
UID:1880-1595404800-1595869200@bozemancohousing.com
SUMMARY:July Site Tours
DESCRIPTION:Meet one on one with a member of Bozeman Cohousing while touring our beautiful property. Learn more about the status of our project and how you can live in Montana’s first cohousing neighborhood! July 22nd & July 27th dates are available with various time slots. Please register in advance using this Sign Up Genius link
URL:https://bozemancohousing.com/event/july-site-tours/
LOCATION:Bozeman Cohousing\, 3120 Wagon Wheel Rd\, Bozeman\, MT\, 59715\, United States
CATEGORIES:Site Tour
ATTACH;FMTTYPE=image/jpeg:https://bozemancohousing.com/wp-content/uploads/2020/06/100900294_713429559413739_6429405358795522048_o.jpg
END:VEVENT
BEGIN:VEVENT
DTSTART;TZID=America/Denver:20200721T190000
DTEND;TZID=America/Denver:20200721T200000
DTSTAMP:20260419T110339
CREATED:20200626T153948Z
LAST-MODIFIED:20200626T153948Z
UID:1843-1595358000-1595361600@bozemancohousing.com
SUMMARY:Webinar: Bozeman Cohousing 101
DESCRIPTION:Join us for a webinar to follow our journey over the past year\, learn about the current status of our project and how you can become a member. \nYou are invited to a Zoom meeting. Please register here
URL:https://bozemancohousing.com/event/webinar-bozeman-cohousing-101-3/
LOCATION:MT
ATTACH;FMTTYPE=image/jpeg:https://bozemancohousing.com/wp-content/uploads/2020/05/pick-up-2.jpg
END:VEVENT
BEGIN:VEVENT
DTSTART;TZID=America/Denver:20200720T173000
DTEND;TZID=America/Denver:20200817T190000
DTSTAMP:20260419T110339
CREATED:20200626T152330Z
LAST-MODIFIED:20200626T152623Z
UID:1838-1595266200-1597690800@bozemancohousing.com
SUMMARY:Picnic at the Property
DESCRIPTION:Looking for evening entertainment? Want to learn how you can live in Montana’s first cohousing neighborhood? Join us at the future site of Bozeman Cohousing on Mondays from 5:30pm-7:00pm. There is plenty of space to spread out for social distancing best practices. Pack a snack\, a blanket and enjoy the view.
URL:https://bozemancohousing.com/event/picnic-with-bozeman-cohousing-3/
LOCATION:Bozeman Cohousing\, 3120 Wagon Wheel Rd\, Bozeman\, MT\, 59715\, United States
ATTACH;FMTTYPE=image/jpeg:https://bozemancohousing.com/wp-content/uploads/2020/05/DSC00031-scaled.jpg
END:VEVENT
BEGIN:VEVENT
DTSTART;TZID=America/Denver:20200713T173000
DTEND;TZID=America/Denver:20200713T190000
DTSTAMP:20260419T110339
CREATED:20200626T152219Z
LAST-MODIFIED:20200626T152642Z
UID:1834-1594661400-1594666800@bozemancohousing.com
SUMMARY:Picnic at the Property
DESCRIPTION:Looking for evening entertainment? Want to learn how you can live in Montana’s first cohousing neighborhood? Join us at the future site of Bozeman Cohousing on Mondays from 5:30pm-7:00pm. There is plenty of space to spread out for social distancing best practices. Pack a snack\, a blanket and enjoy the view.
URL:https://bozemancohousing.com/event/picnic-with-bozeman-cohousing-2/
LOCATION:Bozeman Cohousing\, 3120 Wagon Wheel Rd\, Bozeman\, MT\, 59715\, United States
ATTACH;FMTTYPE=image/jpeg:https://bozemancohousing.com/wp-content/uploads/2020/05/DSC00031-scaled.jpg
END:VEVENT
BEGIN:VEVENT
DTSTART;TZID=America/Denver:20200706T173000
DTEND;TZID=America/Denver:20200706T190000
DTSTAMP:20260419T110339
CREATED:20200626T151956Z
LAST-MODIFIED:20200626T152701Z
UID:1832-1594056600-1594062000@bozemancohousing.com
SUMMARY:Picnic at the Property
DESCRIPTION:Looking for evening entertainment? Want to learn how you can live in Montana’s first cohousing neighborhood? Join us at the future site of Bozeman Cohousing on Mondays from 5:30pm-7:00pm. There is plenty of space to spread out for social distancing best practices. Pack a snack\, a blanket and enjoy the view.
URL:https://bozemancohousing.com/event/picnic-with-bozeman-cohousing/
LOCATION:Bozeman Cohousing\, 3120 Wagon Wheel Rd\, Bozeman\, MT\, 59715\, United States
ATTACH;FMTTYPE=image/jpeg:https://bozemancohousing.com/wp-content/uploads/2020/05/DSC00031-scaled.jpg
END:VEVENT
BEGIN:VEVENT
DTSTART;TZID=America/Denver:20200703T083000
DTEND;TZID=America/Denver:20200703T083000
DTSTAMP:20260419T110339
CREATED:20200626T151333Z
LAST-MODIFIED:20200626T152015Z
UID:1828-1593765000-1593765000@bozemancohousing.com
SUMMARY:Scything & Blade Sharpening Demo
DESCRIPTION:Start the holiday weekend off with a socially distanced heritage class. Bozeman Cohousing invites you to a Scything & Blade Sharpening demonstration. Dr. Mac Burgess\, a professor at MSU in Plant Sciences & Plant Pathology\, will be lending his skills and teaching this workshop. Try your hand at this lost art while enjoying lemonade and taking in the beautiful views at our property. Kid friendly\, all are welcome. \nFor more information\, contact Bozeman Cohousing member Marci at 1-802-888-3914 \nCheck out this short video
URL:https://bozemancohousing.com/event/scything-blade-sharpening-demo/
LOCATION:Bozeman Cohousing\, 3120 Wagon Wheel Rd\, Bozeman\, MT\, 59715\, United States
ATTACH;FMTTYPE=image/jpeg:https://bozemancohousing.com/wp-content/uploads/2020/06/IMG_0807-644x483-1.jpg
END:VEVENT
BEGIN:VEVENT
DTSTART;TZID=America/Denver:20200629T173000
DTEND;TZID=America/Denver:20200629T190000
DTSTAMP:20260419T110339
CREATED:20200530T185950Z
LAST-MODIFIED:20200530T185950Z
UID:1759-1593451800-1593457200@bozemancohousing.com
SUMMARY:Picnic at the Property
DESCRIPTION:Looking for evening entertainment? Want to learn how you can live in Montana’s first cohousing neighborhood? Join us at the future site of Bozeman Cohousing on Mondays from 5:30pm-7:00pm. There is plenty of space to spread out for social distancing best practices. Pack a snack\, a blanket and enjoy the view.
URL:https://bozemancohousing.com/event/picnic-at-the-property-6/
LOCATION:Bozeman Cohousing\, 3120 Wagon Wheel Rd\, Bozeman\, MT\, 59715\, United States
ATTACH;FMTTYPE=image/jpeg:https://bozemancohousing.com/wp-content/uploads/2020/05/DSC00031-scaled.jpg
END:VEVENT
BEGIN:VEVENT
DTSTART;TZID=America/Denver:20200624T190000
DTEND;TZID=America/Denver:20200624T200000
DTSTAMP:20260419T110339
CREATED:20200530T191258Z
LAST-MODIFIED:20200612T173816Z
UID:1761-1593025200-1593028800@bozemancohousing.com
SUMMARY:Webinar: Bozeman Cohousing 101
DESCRIPTION:Join us for a webinar to follow our journey over the past year\, learn about the current status of our project and how you can become a member.\nYou are invited to a Zoom meeting.\nPlease register here
URL:https://bozemancohousing.com/event/webinar-bozeman-cohousing-101-2/
LOCATION:MT
ATTACH;FMTTYPE=image/jpeg:https://bozemancohousing.com/wp-content/uploads/2020/05/pick-up-2.jpg
END:VEVENT
BEGIN:VEVENT
DTSTART;TZID=America/Denver:20200622T173000
DTEND;TZID=America/Denver:20200622T190000
DTSTAMP:20260419T110339
CREATED:20200530T185841Z
LAST-MODIFIED:20200530T185841Z
UID:1757-1592847000-1592852400@bozemancohousing.com
SUMMARY:Picnic at the Property
DESCRIPTION:Looking for evening entertainment? Want to learn how you can live in Montana’s first cohousing neighborhood? Join us at the future site of Bozeman Cohousing on Mondays from 5:30pm-7:00pm. There is plenty of space to spread out for social distancing best practices. Pack a snack\, a blanket and enjoy the view.
URL:https://bozemancohousing.com/event/picnic-at-the-property-5/
LOCATION:Bozeman Cohousing\, 3120 Wagon Wheel Rd\, Bozeman\, MT\, 59715\, United States
ATTACH;FMTTYPE=image/jpeg:https://bozemancohousing.com/wp-content/uploads/2020/05/DSC00031-scaled.jpg
END:VEVENT
BEGIN:VEVENT
DTSTART;TZID=America/Denver:20200615T173000
DTEND;TZID=America/Denver:20200615T190000
DTSTAMP:20260419T110339
CREATED:20200530T185735Z
LAST-MODIFIED:20200530T185735Z
UID:1755-1592242200-1592247600@bozemancohousing.com
SUMMARY:Picnic at the Property
DESCRIPTION:Looking for evening entertainment? Want to learn how you can live in Montana’s first cohousing neighborhood? Join us at the future site of Bozeman Cohousing on Mondays from 5:30pm-7:00pm. There is plenty of space to spread out for social distancing best practices. Pack a snack\, a blanket and enjoy the view.
URL:https://bozemancohousing.com/event/picnic-at-the-property-4/
LOCATION:Bozeman Cohousing\, 3120 Wagon Wheel Rd\, Bozeman\, MT\, 59715\, United States
ATTACH;FMTTYPE=image/jpeg:https://bozemancohousing.com/wp-content/uploads/2020/05/DSC00031-scaled.jpg
END:VEVENT
BEGIN:VEVENT
DTSTART;TZID=America/Denver:20200613T090000
DTEND;TZID=America/Denver:20200613T120000
DTSTAMP:20260419T110339
CREATED:20200606T125754Z
LAST-MODIFIED:20201025T233112Z
UID:1776-1592038800-1592049600@bozemancohousing.com
SUMMARY:Individual Site Tours
DESCRIPTION:Come see the future site of Bozeman Cohousing and talk about the status of the development with current members. \nOne member will be available to walk with each interested family/individual around the property while maintaining 6 ft separation. \nPlease register for this event here
URL:https://bozemancohousing.com/event/individual-site-tours-2/
LOCATION:Bozeman Cohousing\, 3120 Wagon Wheel Rd\, Bozeman\, MT\, 59715\, United States
CATEGORIES:Site Tour
ATTACH;FMTTYPE=image/jpeg:https://bozemancohousing.com/wp-content/uploads/2020/06/100900294_713429559413739_6429405358795522048_o.jpg
END:VEVENT
BEGIN:VEVENT
DTSTART;TZID=America/Denver:20200608T173000
DTEND;TZID=America/Denver:20200608T190000
DTSTAMP:20260419T110339
CREATED:20200530T185538Z
LAST-MODIFIED:20200530T185538Z
UID:1753-1591637400-1591642800@bozemancohousing.com
SUMMARY:Picnic at the Property
DESCRIPTION:Looking for evening entertainment? Want to learn how you can live in Montana’s first cohousing neighborhood? Join us at the future site of Bozeman Cohousing on Mondays from 5:30pm-7:00pm. There is plenty of space to spread out for social distancing best practices. Pack a snack\, a blanket and enjoy the view.
URL:https://bozemancohousing.com/event/picnic-at-the-property-3/
LOCATION:Bozeman Cohousing\, 3120 Wagon Wheel Rd\, Bozeman\, MT\, 59715\, United States
ATTACH;FMTTYPE=image/jpeg:https://bozemancohousing.com/wp-content/uploads/2020/05/DSC00031-scaled.jpg
END:VEVENT
BEGIN:VEVENT
DTSTART;TZID=America/Denver:20200601T173000
DTEND;TZID=America/Denver:20200601T190000
DTSTAMP:20260419T110339
CREATED:20200519T235831Z
LAST-MODIFIED:20200521T172038Z
UID:1640-1591032600-1591038000@bozemancohousing.com
SUMMARY:Picnic at the Property
DESCRIPTION:Looking for evening entertainment? Want to learn how you can live in Montana’s first cohousing neighborhood? Join us at the future site of Bozeman Cohousing on Mondays from 5:30pm-7:00pm. There is plenty of space to spread out for social distancing best practices. Pack a snack\, a blanket and enjoy the view.
URL:https://bozemancohousing.com/event/picnic-at-the-property-2/
LOCATION:Bozeman Cohousing\, 3120 Wagon Wheel Rd\, Bozeman\, MT\, 59715\, United States
ATTACH;FMTTYPE=image/jpeg:https://bozemancohousing.com/wp-content/uploads/2020/05/DSC00031-scaled.jpg
END:VEVENT
BEGIN:VEVENT
DTSTART;TZID=America/Denver:20200530T090000
DTEND;TZID=America/Denver:20200530T120000
DTSTAMP:20260419T110339
CREATED:20200524T151328Z
LAST-MODIFIED:20201025T233112Z
UID:1732-1590829200-1590840000@bozemancohousing.com
SUMMARY:Small Animal Day and Site Tour
DESCRIPTION:Bring your whole family to come see our property\, learn more about cohousing\, and meet our Nigerian Dwarf Goats. All ages are welcome.  To limit the gathering size and maintain social distancing best practices\, please register for a specific time slot. Sign up here
URL:https://bozemancohousing.com/event/small-animal-day-and-site-tour/
LOCATION:Bozeman Cohousing\, 3120 Wagon Wheel Rd\, Bozeman\, MT\, 59715\, United States
CATEGORIES:Site Tour
ATTACH;FMTTYPE=image/jpeg:https://bozemancohousing.com/wp-content/uploads/2020/05/goats.jpg
END:VEVENT
END:VCALENDAR