BEGIN:VCALENDAR
VERSION:2.0
PRODID:-//Bozeman Cohousing - ECPv6.15.20//NONSGML v1.0//EN
CALSCALE:GREGORIAN
METHOD:PUBLISH
X-WR-CALNAME:Bozeman Cohousing
X-ORIGINAL-URL:https://bozemancohousing.com
X-WR-CALDESC:Events for Bozeman Cohousing
REFRESH-INTERVAL;VALUE=DURATION:PT1H
X-Robots-Tag:noindex
X-PUBLISHED-TTL:PT1H
BEGIN:VTIMEZONE
TZID:America/Denver
BEGIN:DAYLIGHT
TZOFFSETFROM:-0700
TZOFFSETTO:-0600
TZNAME:MDT
DTSTART:20180311T090000
END:DAYLIGHT
BEGIN:STANDARD
TZOFFSETFROM:-0600
TZOFFSETTO:-0700
TZNAME:MST
DTSTART:20181104T080000
END:STANDARD
BEGIN:DAYLIGHT
TZOFFSETFROM:-0700
TZOFFSETTO:-0600
TZNAME:MDT
DTSTART:20190310T090000
END:DAYLIGHT
BEGIN:STANDARD
TZOFFSETFROM:-0600
TZOFFSETTO:-0700
TZNAME:MST
DTSTART:20191103T080000
END:STANDARD
BEGIN:DAYLIGHT
TZOFFSETFROM:-0700
TZOFFSETTO:-0600
TZNAME:MDT
DTSTART:20200308T090000
END:DAYLIGHT
BEGIN:STANDARD
TZOFFSETFROM:-0600
TZOFFSETTO:-0700
TZNAME:MST
DTSTART:20201101T080000
END:STANDARD
BEGIN:DAYLIGHT
TZOFFSETFROM:-0700
TZOFFSETTO:-0600
TZNAME:MDT
DTSTART:20210314T090000
END:DAYLIGHT
BEGIN:STANDARD
TZOFFSETFROM:-0600
TZOFFSETTO:-0700
TZNAME:MST
DTSTART:20211107T080000
END:STANDARD
END:VTIMEZONE
BEGIN:VEVENT
DTSTART;TZID=America/Denver:20200420T180000
DTEND;TZID=America/Denver:20200420T190000
DTSTAMP:20260419T174842
CREATED:20200418T031028Z
LAST-MODIFIED:20200418T031029Z
UID:1371-1587405600-1587409200@bozemancohousing.com
SUMMARY:Virtual Community Dinner
DESCRIPTION:Looking for evening entertainment? Join us for virtual community dinners Monday nights at 6pm. Enjoy pleasant dinner conversation on a different topic each week from the comfort and safety of your own home. \nRegister in advance for this meeting:\nhttps://zoom.us/meeting/register/tJctduuhrjwuH9T18A7ZyN45yrQl3tfPqBDs \nAfter registering\, you will receive a confirmation email containing information about joining the meeting.
URL:https://bozemancohousing.com/event/virtual-community-dinner-4/
ATTACH;FMTTYPE=image/png:https://bozemancohousing.com/wp-content/uploads/2020/04/zoom_dinner.png
END:VEVENT
BEGIN:VEVENT
DTSTART;TZID=America/Denver:20200418T090000
DTEND;TZID=America/Denver:20200418T100000
DTSTAMP:20260419T174842
CREATED:20200413T145433Z
LAST-MODIFIED:20200413T145434Z
UID:1357-1587200400-1587204000@bozemancohousing.com
SUMMARY:Webinar: One Year Anniversary Project Update
DESCRIPTION:April 18\, 2020 marks one year since Bozeman Cohousing was started. Join us for a webinar to follow our journey over the past year and learn about the current status of our project.\n\nYou are invited to a Zoom meeting.\nWhen: Apr 18\, 2020 9:00 AM\nRegister in advance for this meeting:\nhttps://zoom.us/meeting/register/tJwsdOuoqT8qp1uTxH025mmzg7KvsmBe_Q\nAfter registering\, you will receive a confirmation email containing information about joining the meeting.\n 
URL:https://bozemancohousing.com/event/webinar-one-year-anniversary-project-update/
ATTACH;FMTTYPE=image/png:https://bozemancohousing.com/wp-content/uploads/2020/02/eric_celebrating_crop.png
END:VEVENT
BEGIN:VEVENT
DTSTART;TZID=America/Denver:20200413T180000
DTEND;TZID=America/Denver:20200413T190000
DTSTAMP:20260419T174842
CREATED:20200413T015818Z
LAST-MODIFIED:20200413T015819Z
UID:1341-1586800800-1586804400@bozemancohousing.com
SUMMARY:Virtual Community Dinner
DESCRIPTION:Looking for evening entertainment? Join us for virtual community dinners Monday nights at 6 pm. Enjoy pleasant dinner conversation on a different topic each week from the comfort and safety of your own home.\n\nMonday\, April 13th we will be talking about the benefits of living in a multi-generational community. From children growing up with many adults to rely on and learn from\, to the other end of life when seniors have a ‘village’ to help them age in place.\n\nRegister in advance for this meeting:\nhttps://zoom.us/meeting/register/uJwpc-ihpzMjvkWcW8WuoM8Hhpd2DZLVkA\nAfter registering\, you will receive a confirmation email containing information about joining the meeting.\n 
URL:https://bozemancohousing.com/event/virtual-community-dinner-3/
ATTACH;FMTTYPE=image/jpeg:https://bozemancohousing.com/wp-content/uploads/2020/04/dance.jpg
END:VEVENT
BEGIN:VEVENT
DTSTART;TZID=America/Denver:20200406T180000
DTEND;TZID=America/Denver:20200406T190000
DTSTAMP:20260419T174842
CREATED:20200403T212604Z
LAST-MODIFIED:20200403T212605Z
UID:1271-1586196000-1586199600@bozemancohousing.com
SUMMARY:Virtual Community Dinner
DESCRIPTION:Looking for evening entertainment? Join us for virtual community dinners Monday nights at 6 pm. Enjoy pleasant dinner conversation on a different topic each week from the comfort and safety of your own home. Everyone is welcome. \nRegister in advance for this meeting:\nhttps://zoom.us/meeting/register/tJElcOmorDwisghXG_-n63HwrNwoixa-6w
URL:https://bozemancohousing.com/event/virtual-community-dinner-2/
ATTACH;FMTTYPE=image/png:https://bozemancohousing.com/wp-content/uploads/2020/04/dinner2.png
END:VEVENT
BEGIN:VEVENT
DTSTART;TZID=America/Denver:20200330T180000
DTEND;TZID=America/Denver:20200330T190000
DTSTAMP:20260419T174842
CREATED:20200327T034305Z
LAST-MODIFIED:20200329T031014Z
UID:1259-1585591200-1585594800@bozemancohousing.com
SUMMARY:Virtual Community Dinner
DESCRIPTION:Looking for evening entertainment? Join us for virtual community dinners Monday nights at 6pm. Enjoy pleasant dinner conversation on a different topic each week from the comfort and safety of your own home. Everyone is welcome. Monday\, March 30th we will be talking about the agrihood concept and how community can be built around the shared work of growing food. \nRegister in advance for this Zoom meeting:\nhttps://zoom.us/meeting/register/vJElcu2prz0uRwXi54Y2ODf6PQbbp4c9cg \nAfter registering\, you will receive a confirmation email containing information about joining the meeting.
URL:https://bozemancohousing.com/event/virtual-community-dinner/
ATTACH;FMTTYPE=image/png:https://bozemancohousing.com/wp-content/uploads/2020/03/dinner.png
END:VEVENT
BEGIN:VEVENT
DTSTART;TZID=America/Denver:20200323T180000
DTEND;TZID=America/Denver:20200323T190000
DTSTAMP:20260419T174842
CREATED:20200229T020114Z
LAST-MODIFIED:20200323T200048Z
UID:1163-1584986400-1584990000@bozemancohousing.com
SUMMARY:Virtual Social Hour
DESCRIPTION:We were supposed to be at Fork & Spoon for a casual evening of conversation and community support. But\, due to Covid-19\, we are moving to a virtual social hour so you can still learn more about cohousing and the neighborhood we are creating in Bozeman. \nYou can connect to the call using the following information: \nJoin Zoom Meeting\nhttps://zoom.us/j/668885577 \nMeeting ID: 668 885 577 \nOne tap mobile\n+16699009128\,\,668885577# US (San Jose)\n+13462487799\,\,668885577# US (Houston) \nDial by your location\n+1 669 900 9128 US (San Jose)\n+1 346 248 7799 US (Houston)\n+1 646 558 8656 US (New York)\n+1 253 215 8782 US\n+1 301 715 8592 US\n+1 312 626 6799 US (Chicago)\nMeeting ID: 668 885 577\nFind your local number: https://zoom.us/u/asah0pY2A
URL:https://bozemancohousing.com/event/social-dinner-at-fork-spoon/
LOCATION:Fork & Spoon\, 302 N 7th Ave\, Bozeman\, MT\, 59715\, United States
ATTACH;FMTTYPE=image/jpeg:https://bozemancohousing.com/wp-content/uploads/2020/02/zoom.jpg
END:VEVENT
BEGIN:VEVENT
DTSTART;TZID=America/Denver:20200307T160000
DTEND;TZID=America/Denver:20200307T170000
DTSTAMP:20260419T174842
CREATED:20200224T040417Z
LAST-MODIFIED:20201025T233112Z
UID:1142-1583596800-1583600400@bozemancohousing.com
SUMMARY:Site Tour
DESCRIPTION:Come see the future site of Bozeman Cohousing.  We have a preliminary site design to see and the site to explore.  Members will be available to talk with and learn more about how to join our group and live on this beautiful site in the neighborhood we are creating.
URL:https://bozemancohousing.com/event/site-tour-2/
LOCATION:Wagon Wheel\, 3120 Wagon Wheel Rd\, Bozeman\, MT\, 59715\, United States
CATEGORIES:Site Tour
ATTACH;FMTTYPE=image/jpeg:https://bozemancohousing.com/wp-content/uploads/2020/02/sled.jpg
END:VEVENT
BEGIN:VEVENT
DTSTART;TZID=America/Denver:20200228T180000
DTEND;TZID=America/Denver:20200228T190000
DTSTAMP:20260419T174842
CREATED:20200224T035313Z
LAST-MODIFIED:20200224T035314Z
UID:1137-1582912800-1582916400@bozemancohousing.com
SUMMARY:Happy Hour with Bryan Bowen
DESCRIPTION:Join Bozeman Cohousing and contributing architect Bryan Bowen for a casual evening of conversation. This public event is open to anyone who is interested in cohousing. Grab a quick bite and a beverage and let’s gather to welcome Bryan to Bozeman and talk all things cohousing! \nBryan Bowen has been a practicing architect since graduating from Carnegie Mellon University in 1995. He is dedicated to the design of sustainable structures of all scales that serve client needs and that create thriving neighborhoods that are great to live in. Bryan and his family live in Wild Sage Cohousing in Colorado and\, among other accolades\, is a LEED champion. Don’t miss this opportunity to visit with an expert in sustainable building and someone who lives the cohousing lifestyle.
URL:https://bozemancohousing.com/event/happy-hour-with-bryan-bowen/
LOCATION:SHINE\, 451 E Main St\, Bozeman\, MT\, 59715\, United States
ATTACH;FMTTYPE=image/jpeg:https://bozemancohousing.com/wp-content/uploads/2020/02/caddis.jpg
END:VEVENT
BEGIN:VEVENT
DTSTART;TZID=America/Denver:20200222T090000
DTEND;TZID=America/Denver:20200222T100000
DTSTAMP:20260419T174842
CREATED:20200126T214323Z
LAST-MODIFIED:20201025T233112Z
UID:1119-1582362000-1582365600@bozemancohousing.com
SUMMARY:Site Tour
DESCRIPTION:Come see the future site of Bozeman Cohousing and talk about the status of the development with current members.
URL:https://bozemancohousing.com/event/site-tour/
LOCATION:Site\, 3120 Wagon Wheel Rd\, Bozeman\, MT\, 59715\, United States
CATEGORIES:Site Tour
ATTACH;FMTTYPE=image/jpeg:https://bozemancohousing.com/wp-content/uploads/2020/01/land.jpg
END:VEVENT
BEGIN:VEVENT
DTSTART;TZID=America/Denver:20200217T183000
DTEND;TZID=America/Denver:20200217T193000
DTSTAMP:20260419T174842
CREATED:20200126T212511Z
LAST-MODIFIED:20200126T212511Z
UID:1115-1581964200-1581967800@bozemancohousing.com
SUMMARY:Social Hour at the Co-op
DESCRIPTION:Monday Feb 17 at 6:30 pm\n\nMeet upstairs at the co-op west main. \n\nGrab some dinner from the hot bar or a coffee and dessert and meet us upstairs for a relaxing evening.  Join us for casual conversation and questions.
URL:https://bozemancohousing.com/event/social-hour-at-the-co-op/
LOCATION:Co-op\, 908 W Main St\, Bozeman\, MT\, 59715\, United States
ATTACH;FMTTYPE=image/jpeg:https://bozemancohousing.com/wp-content/uploads/2020/01/store-bozocoop-banner.jpg
END:VEVENT
BEGIN:VEVENT
DTSTART;TZID=America/Denver:20200211T184000
DTEND;TZID=America/Denver:20200211T200000
DTSTAMP:20260419T174842
CREATED:20191231T212358Z
LAST-MODIFIED:20200126T214829Z
UID:1094-1581446400-1581451200@bozemancohousing.com
SUMMARY:Pecha Kucha Talk
DESCRIPTION:Bozeman Cohousing member Mark Owkes will be talking about cohousing and how we can create a neighborhood that fosters and supports relationships during Pecha Kucha Bozeman on February 11 & 12.  This Valentine’s day themed event gives us an opportunity to think about the relationships we have in our lives and how a supportive and friendly neighborhood at your doorstep may a welcome addition to your life.  Mark has been with Bozeman Cohousing from the start and is excited to share the what\, why\, and how of Bozeman Cohousing with the community.
URL:https://bozemancohousing.com/event/pecha-kucha-talk/
LOCATION:Ellen Theatre\, 17 W Main\, Bozeman\, MT\, 59715\, United States
ATTACH;FMTTYPE=image/png:https://bozemancohousing.com/wp-content/uploads/2019/12/Screen-Shot-2019-12-31-at-1.59.01-PM.png
END:VEVENT
BEGIN:VEVENT
DTSTART;TZID=America/Denver:20200114T170000
DTEND;TZID=America/Denver:20200114T190000
DTSTAMP:20260419T174842
CREATED:20200103T222452Z
LAST-MODIFIED:20200103T222452Z
UID:1097-1579021200-1579028400@bozemancohousing.com
SUMMARY:Bozeman Cohousing @ Fork & Spoon
DESCRIPTION:Come join us at Fork & Spoon for a casual evening of conversation and community support. Fork & Spoon is a pay-what-you-can model restaurant and depends on guests that can pay for their meal and pay-it-forward to support guests that cannot pay. Let’s come out in full strength and pay it forward to support their wonderful mission. Whether you’re a cohousing member\, interesting in learning more about cohousing or just want to come out and support a wonderful organization in our community we welcome and encourage you to come on out and dine with us! \nhttps://www.forkandspoonbozeman.org \nHome
URL:https://bozemancohousing.com/event/bozeman-cohousing-fork-spoon-2/
LOCATION:Fork & Spoon\, 302 N 7th Ave\, Bozeman\, MT\, 59715\, United States
ATTACH;FMTTYPE=image/jpeg:https://bozemancohousing.com/wp-content/uploads/2019/12/Fork-and-spoon-logo-1.jpg
END:VEVENT
BEGIN:VEVENT
DTSTART;VALUE=DATE:20200111
DTEND;VALUE=DATE:20200113
DTSTAMP:20260419T174842
CREATED:20191115T212911Z
LAST-MODIFIED:20191116T153453Z
UID:983-1578700800-1578873599@bozemancohousing.com
SUMMARY:Getting-it-Built Workshop
DESCRIPTION:We will be hosting a Getting-it-Built workshop put on by our consultant Cohousing Solutions. This two-day workshop is open to anyone interested in cohousing and is an opportunity to learn about cohousing and the development process from an expert. Below are some of the topics covered during the workshop \n\nVisions for the project\nOverview of the current status\nInformation on the development process including:\nRoles and responsibilities\nTimeline\nCohousing design considerations\nCosts considerations and development budget\n\nMore information and Register Here
URL:https://bozemancohousing.com/event/getting-it-built-workshop/
LOCATION:VISIONS Service Adventures\, 203 N Church St\, Bozeman\, MT\, 59715\, United States
ATTACH;FMTTYPE=image/png:https://bozemancohousing.com/wp-content/uploads/2019/11/Screen-Shot-2019-11-16-at-5.50.55-AM.png
END:VEVENT
BEGIN:VEVENT
DTSTART;TZID=America/Denver:20200110T180000
DTEND;TZID=America/Denver:20200110T200000
DTSTAMP:20260419T174842
CREATED:20191216T162128Z
LAST-MODIFIED:20191216T162128Z
UID:1088-1578679200-1578686400@bozemancohousing.com
SUMMARY:Author & expert Katie McCamant is coming to Bozeman!
DESCRIPTION:Bozeman Cohousing is kicking off our project this January with a free public presentation by Katie McCamant\, our development consultant and co-founder of the North American Cohousing movement. The cohousing concept was brought to the US in the 1980s by architects Katie McCamant and Charles Durrett\, who\, after studying the movement in Denmark\, published the seminal book “Cohousing: A Contemporary Approach to Housing Ourselves”. \nErik Bonnett\, a member of Bozeman Cohousing as well as our project’s architect\, worked for several years in the same office as Katie and has collaborated with her on several cohousing projects. He is excited about the prospect of working with McCamant again in his own hometown. “If you have ever been curious about sustainable communities or cohousing\, the opportunity to meet Katie is not to be missed\,” said Bonnett. He continued “she was instrumental in starting cohousing in the United States and continues to be an important leader in the movement. Having worked on several cohousing projects with her\, I can attest first-hand to her role as a luminary.” \nThis free\, open to the public event will occur:\nFriday January 10\, 2020 @ 6pm.\nLindley Center\n1102 E Curtiss St\nBozeman\, MT \nThis is your opportunity to hear from and meet a foremost expert on cohousing. Katie McCamant will give a presentation followed by Q&A and chatting about all things cohousing. This will be a kid-friendly event and children’s activities will be provided. Hors d’oeuvres and drinks will be served. \nhttps://www.cohousing-solutions.com
URL:https://bozemancohousing.com/event/author-expert-katie-mccamant-is-coming-to-bozeman/
LOCATION:Lindley Center\, 1102 E Curtiss St\, Bozeman\, MT\, 59715\, United States
ATTACH;FMTTYPE=image/png:https://bozemancohousing.com/wp-content/uploads/2019/12/Katie.png
END:VEVENT
BEGIN:VEVENT
DTSTART;TZID=America/Denver:20191216T170000
DTEND;TZID=America/Denver:20191216T190000
DTSTAMP:20260419T174842
CREATED:20191209T120423Z
LAST-MODIFIED:20191209T120424Z
UID:1076-1576515600-1576522800@bozemancohousing.com
SUMMARY:Bozeman Cohousing @ Fork & Spoon
DESCRIPTION:Come join us at Fork & Spoon for a casual evening of conversation and community support. Fork & Spoon is a pay-what-you-can model restaurant and depends on guests that can pay for their meal and pay-it-forward to support guests that cannot pay. Let’s come out in full strength and pay it forward to support their wonderful mission. Whether you’re a cohousing member\, interesting in learning more about cohousing or just want to come out and support a wonderful organization in our community we welcome and encourage you to come on out and dine with us! \nhttps://www.forkandspoonbozeman.org \nhttps://bozemancohousing.com
URL:https://bozemancohousing.com/event/bozeman-cohousing-fork-spoon/
LOCATION:Fork & Spoon\, 302 N 7th Ave\, Bozeman\, MT\, 59715\, United States
ATTACH;FMTTYPE=image/jpeg:https://bozemancohousing.com/wp-content/uploads/2019/12/Fork-and-spoon-logo-1.jpg
END:VEVENT
BEGIN:VEVENT
DTSTART;TZID=America/Denver:20191214T090000
DTEND;TZID=America/Denver:20191214T120000
DTSTAMP:20260419T174842
CREATED:20191209T120118Z
LAST-MODIFIED:20191209T123232Z
UID:1074-1576314000-1576324800@bozemancohousing.com
SUMMARY:How Cohousing Works Mini Workshop
DESCRIPTION:This Mini-Workshop is free for all Explorer members who have paid their explorer fee ($100). The goal of this workshop is to provide a lot of information and extended time for questions from Explorers and newer Members to feel more comfortable and confident in the project. If you have been wondering if there was a way to take a deeper dive into cohousing than our typical public events\, this workshop is an excellent opportunity to find out if cohousing is right for you. \nMini-Workshop Info:\nDate: December 14th\, 2019\nTime: 9am-12pm\nLocation: VISIONS Service Adventures\n203 N Church\nBozeman\, MT 59715 \nRSVP today by emailing: life@bozemancohousing.com
URL:https://bozemancohousing.com/event/how-cohousing-works-mini-workshop/
ATTACH;FMTTYPE=image/png:https://bozemancohousing.com/wp-content/uploads/2019/12/Screen-Shot-2019-12-03-at-1.37.51-PM.png
END:VEVENT
BEGIN:VEVENT
DTSTART;TZID=America/Denver:20191204T163000
DTEND;TZID=America/Denver:20191204T180000
DTSTAMP:20260419T174842
CREATED:20191113T215259Z
LAST-MODIFIED:20191114T184959Z
UID:963-1575477000-1575482400@bozemancohousing.com
SUMMARY:Public Presentation at Bozeman Senior Center
DESCRIPTION:Come to a public presentation to learn about cohousing and the current status of the project.\nEveryone (not just seniors) welcome!
URL:https://bozemancohousing.com/event/public-presentation-at-bozeman-senior-center/
LOCATION:Bozeman Senior Center\, 807 North Tracy Avenue\, Bozeman\, MT\, 59715\, United States
ATTACH;FMTTYPE=image/jpeg:https://bozemancohousing.com/wp-content/uploads/2019/11/senior_center.jpg
END:VEVENT
BEGIN:VEVENT
DTSTART;TZID=America/Denver:20191121T170000
DTEND;TZID=America/Denver:20191121T190000
DTSTAMP:20260419T174842
CREATED:20190912T205440Z
LAST-MODIFIED:20191108T175130Z
UID:848-1574355600-1574362800@bozemancohousing.com
SUMMARY:Members Meeting - Call with Cohousing Solutions
DESCRIPTION:Committed members of Bozeman Cohousing meet regularly to discuss progress and make decisions.  If you would like to get more involved or learn more\, you can attend the meetings as an Explorer.  Email life@bozemancohousing.com for additional details.
URL:https://bozemancohousing.com/event/members-meeting-call-with-cohousing-solutions-4/
END:VEVENT
BEGIN:VEVENT
DTSTART;TZID=America/Denver:20191117T160000
DTEND;TZID=America/Denver:20191117T180000
DTSTAMP:20260419T174842
CREATED:20191002T022653Z
LAST-MODIFIED:20191017T215838Z
UID:906-1574006400-1574013600@bozemancohousing.com
SUMMARY:Thanksgiving/Harvest Dinner
DESCRIPTION:Explorers and Members are invited to a Thanksgiving/Harvest Dinner at Mark and Kathleen’s house. \nRegistered website users can find more information at https://bozemancohousing.com/forum/topic/cohousing-thanksgiving-harvest-dinner-11-17/. \nIf you are not registered\, email life@bozemancohousing.com for details.
URL:https://bozemancohousing.com/event/thanksgiving-harvest-dinner/
ORGANIZER;CN="":MAILTO:life@bozemancohousing.com
END:VEVENT
BEGIN:VEVENT
DTSTART;TZID=America/Denver:20191114T173000
DTEND;TZID=America/Denver:20191114T193000
DTSTAMP:20260419T174842
CREATED:20191103T191637Z
LAST-MODIFIED:20191108T175146Z
UID:930-1573752600-1573759800@bozemancohousing.com
SUMMARY:Members Meeting
DESCRIPTION:Committed members of Bozeman Cohousing meet regularly to discuss progress and make decisions. If you would like to get more involved or learn more\, you can attend the meetings as an Explorer. Email life@bozemancohousing.com for additional details.
URL:https://bozemancohousing.com/event/members-meeting-8/
LOCATION:VISIONS Service Adventures\, 203 N Church St\, Bozeman\, MT\, 59715\, United States
END:VEVENT
BEGIN:VEVENT
DTSTART;TZID=America/Denver:20191113T173000
DTEND;TZID=America/Denver:20191113T190000
DTSTAMP:20260419T174842
CREATED:20191015T192756Z
LAST-MODIFIED:20191017T215817Z
UID:916-1573666200-1573671600@bozemancohousing.com
SUMMARY:Potluck Dinner with Arboretum Co-Housing Guests
DESCRIPTION:What: Potluck dinner\nWhere: Contact us for location (members see https://bozemancohousing.com/forum/topic/11-13-potluck-dinner-with-arboretum-co-housing-guests/)\nWhen: November 13\, at 5:30pm\nAbout: Dan and Gail from Arboretum Co-Housing will be visiting Bozeman and offered to share their experience:
URL:https://bozemancohousing.com/event/potluck-dinner-with-arboretum-co-housing-guests/
END:VEVENT
BEGIN:VEVENT
DTSTART;TZID=America/Denver:20191107T180000
DTEND;TZID=America/Denver:20191107T200000
DTSTAMP:20260419T174842
CREATED:20190912T035048Z
LAST-MODIFIED:20191011T200753Z
UID:843-1573149600-1573156800@bozemancohousing.com
SUMMARY:Public Presentation and Socializing
DESCRIPTION:Join us at this event to learn about cohousing and socialize with others interested in Bozeman Cohousing.  We will have a short presentation on what is cohousing followed by questions and answered and time to socialize.
URL:https://bozemancohousing.com/event/public-presentation-and-socializing-2/
LOCATION:VISIONS Service Adventures\, 203 N Church St\, Bozeman\, MT\, 59715\, United States
ATTACH;FMTTYPE=image/jpeg:https://bozemancohousing.com/wp-content/uploads/2019/09/DSC_0011.jpg
END:VEVENT
BEGIN:VEVENT
DTSTART;TZID=America/Denver:20191024T173000
DTEND;TZID=America/Denver:20191024T193000
DTSTAMP:20260419T174842
CREATED:20190912T202907Z
LAST-MODIFIED:20190912T202907Z
UID:845-1571938200-1571945400@bozemancohousing.com
SUMMARY:Members Meeting
DESCRIPTION:Committed members of Bozeman Cohousing meet regularly to discuss progress and make decisions.  If you would like to get more involved or learn more\, you can attend the meetings as an Explorer.  Email life@bozemancohousing.com for additional details.
URL:https://bozemancohousing.com/event/members-meeting-7/
END:VEVENT
BEGIN:VEVENT
DTSTART;TZID=America/Denver:20191017T170000
DTEND;TZID=America/Denver:20191017T190000
DTSTAMP:20260419T174842
CREATED:20190906T133510Z
LAST-MODIFIED:20190906T133520Z
UID:830-1571331600-1571338800@bozemancohousing.com
SUMMARY:Members Meeting - Call with Cohousing Solutions
DESCRIPTION:Committed members of Bozeman Cohousing meet regularly to discuss progress and make decisions.  If you would like to get more involved or learn more\, you can attend the meetings as an Explorer.  Email life@bozemancohousing.com for additional details.
URL:https://bozemancohousing.com/event/members-meeting-call-with-cohousing-solutions-3/
END:VEVENT
BEGIN:VEVENT
DTSTART;TZID=America/Denver:20191010T173000
DTEND;TZID=America/Denver:20191010T193000
DTSTAMP:20260419T174842
CREATED:20190906T133438Z
LAST-MODIFIED:20190906T133438Z
UID:828-1570728600-1570735800@bozemancohousing.com
SUMMARY:Members Meeting
DESCRIPTION:Committed members of Bozeman Cohousing meet regularly to discuss progress and make decisions.  If you would like to get more involved or learn more\, you can attend the meetings as an Explorer.  Email life@bozemancohousing.com for additional details.
URL:https://bozemancohousing.com/event/members-meeting-6/
END:VEVENT
BEGIN:VEVENT
DTSTART;TZID=America/Denver:20191008T180000
DTEND;TZID=America/Denver:20191008T200000
DTSTAMP:20260419T174842
CREATED:20190912T034804Z
LAST-MODIFIED:20190912T034838Z
UID:840-1570557600-1570564800@bozemancohousing.com
SUMMARY:Public Presentation and Socializing
DESCRIPTION:Join us at this event to learn about cohousing and socialize with others interested in Bozeman Cohousing.  We will have a short presentation on what is cohousing followed by questions and answered and time to socialize.
URL:https://bozemancohousing.com/event/public-presentation-and-socializing/
LOCATION:VISIONS Service Adventures\, 203 N Church St\, Bozeman\, MT\, 59715\, United States
ATTACH;FMTTYPE=image/png:https://bozemancohousing.com/wp-content/uploads/2019/07/Informational-Flyer-Tabloid.png
END:VEVENT
BEGIN:VEVENT
DTSTART;TZID=America/Denver:20191003T170000
DTEND;TZID=America/Denver:20191003T190000
DTSTAMP:20260419T174842
CREATED:20190913T161122Z
LAST-MODIFIED:20190925T212906Z
UID:866-1570122000-1570129200@bozemancohousing.com
SUMMARY:Apple Cider Pressing & Potluck
DESCRIPTION:Explorers and Members are invited to an Apple Cider Pressing Party & Potluck Dinner at Mark and Kathleen’s house. \nRegistered website users can find more information at https://bozemancohousing.com/forum/topic/apple-cider-pressing/#postid-127.  If you are not registered\, email life@bozemancohousing.com for details.
URL:https://bozemancohousing.com/event/apple-cider-pressing-potluck/
ATTACH;FMTTYPE=image/jpeg:https://bozemancohousing.com/wp-content/uploads/2019/09/applepressing.jpg
END:VEVENT
BEGIN:VEVENT
DTSTART;TZID=America/Denver:20190926T173000
DTEND;TZID=America/Denver:20190926T193000
DTSTAMP:20260419T174842
CREATED:20190906T133355Z
LAST-MODIFIED:20190906T133355Z
UID:826-1569519000-1569526200@bozemancohousing.com
SUMMARY:Members Meeting
DESCRIPTION:Committed members of Bozeman Cohousing meet regularly to discuss progress and make decisions.  If you would like to get more involved or learn more\, you can attend the meetings as an Explorer.  Email life@bozemancohousing.com for additional details.
URL:https://bozemancohousing.com/event/members-meeting-5/
END:VEVENT
BEGIN:VEVENT
DTSTART;TZID=America/Denver:20190919T170000
DTEND;TZID=America/Denver:20190919T190000
DTSTAMP:20260419T174842
CREATED:20190814T025911Z
LAST-MODIFIED:20190814T025911Z
UID:811-1568912400-1568919600@bozemancohousing.com
SUMMARY:Members Meeting/Call with Cohousing Solutions
DESCRIPTION:Committed members of Bozeman Cohousing meet regularly to discuss progress and make decisions.  If you would like to get more involved or learn more\, you can attend the meetings as an Explorer.  Email life@bozemancohousing.com for additional details.
URL:https://bozemancohousing.com/event/members-meeting-call-with-cohousing-solutions-2/
LOCATION:VISIONS Service Adventures\, 203 N Church St\, Bozeman\, MT\, 59715\, United States
END:VEVENT
BEGIN:VEVENT
DTSTART;TZID=America/Denver:20190911T180000
DTEND;TZID=America/Denver:20190911T200000
DTSTAMP:20260419T174842
CREATED:20190731T195055Z
LAST-MODIFIED:20190807T182821Z
UID:594-1568224800-1568232000@bozemancohousing.com
SUMMARY:Learn About Cohousing
DESCRIPTION:Join us at this event to learn about cohousing and socialize with others interested in Bozeman Cohousing.  We will have a short presentation on what is cohousing followed by questions and answered and time to socialize.
URL:https://bozemancohousing.com/event/learn-about-cohousing/
LOCATION:VISIONS Service Adventures\, 203 N Church St\, Bozeman\, MT\, 59715\, United States
ATTACH;FMTTYPE=image/png:https://bozemancohousing.com/wp-content/uploads/2019/07/Informational-Flyer-Tabloid.png
END:VEVENT
END:VCALENDAR